BEGIN:VCALENDAR
VERSION:2.0
PRODID:-//La Roca Turisme - ECPv6.15.20//NONSGML v1.0//EN
CALSCALE:GREGORIAN
METHOD:PUBLISH
X-WR-CALNAME:La Roca Turisme
X-ORIGINAL-URL:https://larocaturisme.cat
X-WR-CALDESC:Events for La Roca Turisme
REFRESH-INTERVAL;VALUE=DURATION:PT1H
X-Robots-Tag:noindex
X-PUBLISHED-TTL:PT1H
BEGIN:VTIMEZONE
TZID:Europe/Madrid
BEGIN:DAYLIGHT
TZOFFSETFROM:+0100
TZOFFSETTO:+0200
TZNAME:CEST
DTSTART:20200329T010000
END:DAYLIGHT
BEGIN:STANDARD
TZOFFSETFROM:+0200
TZOFFSETTO:+0100
TZNAME:CET
DTSTART:20201025T010000
END:STANDARD
BEGIN:DAYLIGHT
TZOFFSETFROM:+0100
TZOFFSETTO:+0200
TZNAME:CEST
DTSTART:20210328T010000
END:DAYLIGHT
BEGIN:STANDARD
TZOFFSETFROM:+0200
TZOFFSETTO:+0100
TZNAME:CET
DTSTART:20211031T010000
END:STANDARD
BEGIN:DAYLIGHT
TZOFFSETFROM:+0100
TZOFFSETTO:+0200
TZNAME:CEST
DTSTART:20220327T010000
END:DAYLIGHT
BEGIN:STANDARD
TZOFFSETFROM:+0200
TZOFFSETTO:+0100
TZNAME:CET
DTSTART:20221030T010000
END:STANDARD
BEGIN:DAYLIGHT
TZOFFSETFROM:+0100
TZOFFSETTO:+0200
TZNAME:CEST
DTSTART:20230326T010000
END:DAYLIGHT
BEGIN:STANDARD
TZOFFSETFROM:+0200
TZOFFSETTO:+0100
TZNAME:CET
DTSTART:20231029T010000
END:STANDARD
END:VTIMEZONE
BEGIN:VEVENT
DTSTART;TZID=Europe/Madrid:20220226T163000
DTEND;TZID=Europe/Madrid:20220226T163000
DTSTAMP:20260420T050943
CREATED:20220217T111741Z
LAST-MODIFIED:20220217T120758Z
UID:7972-1645893000-1645893000@larocaturisme.cat
SUMMARY:Carnestoltes La Torreta 2022
DESCRIPTION:
URL:https://larocaturisme.cat/agenda/carnestoltes-la-torreta-2022/
LOCATION:Plaça Valldoriolf\, Plaça Valldoriolg\, La Torreta – La Roca del Vallès\, 08430\, Espanya
CATEGORIES:Cultura,Espectacle,Festa Major
ATTACH;FMTTYPE=image/jpeg:https://larocaturisme.cat/wp-content/uploads/2022/02/Titol-carnestoltes-la-torreta-600x249-1.jpg
ORGANIZER;CN="Ajuntament de La Roca del Vall%C3%A8s":MAILTO:ajuntament@laroca.cat
END:VEVENT
BEGIN:VEVENT
DTSTART;TZID=Europe/Madrid:20220226T163000
DTEND;TZID=Europe/Madrid:20220226T163000
DTSTAMP:20260420T050943
CREATED:20220217T111741Z
LAST-MODIFIED:20220224T085102Z
UID:8032-1645893000-1645893000@larocaturisme.cat
SUMMARY:Carnaval en La Torreta 2022
DESCRIPTION:
URL:https://larocaturisme.cat/agenda/carnestoltes-la-torreta-2022/
LOCATION:Plaça Valldoriolf\, Plaça Valldoriolg\, La Torreta – La Roca del Vallès\, 08430\, Espanya
CATEGORIES:Cultura,Espectacle,Festa Major
ATTACH;FMTTYPE=image/jpeg:https://larocaturisme.cat/wp-content/uploads/2022/02/Titol-carnestoltes-la-torreta-600x249-1.jpg
ORGANIZER;CN="Ajuntament de La Roca del Vall%C3%A8s":MAILTO:ajuntament@laroca.cat
END:VEVENT
BEGIN:VEVENT
DTSTART;TZID=Europe/Madrid:20220226T163000
DTEND;TZID=Europe/Madrid:20220226T163000
DTSTAMP:20260420T050943
CREATED:20220217T103258Z
LAST-MODIFIED:20220217T103357Z
UID:7952-1645893000-1645893000@larocaturisme.cat
SUMMARY:Carnestoltes 2022 - Les Pirates arriben a La Roca -
DESCRIPTION:
URL:https://larocaturisme.cat/agenda/carnestoltes-2022-les-pirates-arriben-a-la-roca/
LOCATION:Plaça Sant Jordi\, Plaça Sant Jordi\, La Roca del Vallès\, 0840\, Espanya
CATEGORIES:Cultura,Espectacle,Festa Major
ATTACH;FMTTYPE=image/jpeg:https://larocaturisme.cat/wp-content/uploads/2022/02/Les-pirates.jpg
END:VEVENT
BEGIN:VEVENT
DTSTART;TZID=Europe/Madrid:20220226T163000
DTEND;TZID=Europe/Madrid:20220226T163000
DTSTAMP:20260420T050943
CREATED:20220217T103258Z
LAST-MODIFIED:20220224T085208Z
UID:8036-1645893000-1645893000@larocaturisme.cat
SUMMARY:Carnaval 2022 - Les Pirates arriben a La Roca -
DESCRIPTION:
URL:https://larocaturisme.cat/agenda/carnestoltes-2022-les-pirates-arriben-a-la-roca/
LOCATION:Plaça Sant Jordi\, Plaça Sant Jordi\, La Roca del Vallès\, 0840\, Espanya
CATEGORIES:Cultura,Espectacle,Festa Major
ATTACH;FMTTYPE=image/jpeg:https://larocaturisme.cat/wp-content/uploads/2022/02/Les-pirates.jpg
END:VEVENT
BEGIN:VEVENT
DTSTART;TZID=Europe/Madrid:20220225T150000
DTEND;TZID=Europe/Madrid:20220225T163000
DTSTAMP:20260420T050943
CREATED:20220217T101813Z
LAST-MODIFIED:20220217T101832Z
UID:7923-1645801200-1645806600@larocaturisme.cat
SUMMARY:Rua Carnaval - Escola Santa Agnès de Malanyanes -
DESCRIPTION:
URL:https://larocaturisme.cat/agenda/rua-carnaval-2022-escola-santa-agnes-de-malanyanes/
LOCATION:Escola Santa Agnès de Malanyanes\, Carrer Pau Casals 0\, Santa Agnès de Malanyanes\, 08430\, Espanya
CATEGORIES:Cultura,Espectacle,Festa Major
ATTACH;FMTTYPE=image/jpeg:https://larocaturisme.cat/wp-content/uploads/2022/02/Rua-Carnaval-escola-sta.-agnes.jpg
END:VEVENT
BEGIN:VEVENT
DTSTART;TZID=Europe/Madrid:20220225T150000
DTEND;TZID=Europe/Madrid:20220225T163000
DTSTAMP:20260420T050943
CREATED:20220217T101813Z
LAST-MODIFIED:20220224T085412Z
UID:8040-1645801200-1645806600@larocaturisme.cat
SUMMARY:Desfile Carnaval - Escuela Santa Agnès de Malanyanes -
DESCRIPTION:
URL:https://larocaturisme.cat/agenda/rua-carnaval-2022-escola-santa-agnes-de-malanyanes/
LOCATION:Escola Santa Agnès de Malanyanes\, Carrer Pau Casals 0\, Santa Agnès de Malanyanes\, 08430\, Espanya
CATEGORIES:Cultura,Espectacle,Festa Major
ATTACH;FMTTYPE=image/jpeg:https://larocaturisme.cat/wp-content/uploads/2022/02/Rua-Carnaval-escola-sta.-agnes.jpg
END:VEVENT
BEGIN:VEVENT
DTSTART;TZID=Europe/Madrid:20220221T173000
DTEND;TZID=Europe/Madrid:20220221T173000
DTSTAMP:20260420T050943
CREATED:20220127T082615Z
LAST-MODIFIED:20220127T082959Z
UID:7631-1645464600-1645464600@larocaturisme.cat
SUMMARY:Taller de Carnestoltes
DESCRIPTION:
URL:https://larocaturisme.cat/agenda/taller-infantil/
LOCATION:Biblioteca Municipal La Roca del Vallès\, Lope de Vega\, 10\, LA Roca del Vallès\, bARCELONA\, 08430\, Espanya
CATEGORIES:Cultura
ATTACH;FMTTYPE=image/jpeg:https://larocaturisme.cat/wp-content/uploads/2022/01/mascara-carnestoltes.jpg
ORGANIZER;CN="Ajuntament de La Roca del Vall%C3%A8s":MAILTO:ajuntament@laroca.cat
END:VEVENT
BEGIN:VEVENT
DTSTART;TZID=Europe/Madrid:20220221T173000
DTEND;TZID=Europe/Madrid:20220221T173000
DTSTAMP:20260420T050943
CREATED:20220127T082615Z
LAST-MODIFIED:20220127T083616Z
UID:7647-1645464600-1645464600@larocaturisme.cat
SUMMARY:Taller de Carnaval
DESCRIPTION:
URL:https://larocaturisme.cat/agenda/taller-infantil/
LOCATION:Biblioteca Municipal La Roca del Vallès\, Lope de Vega\, 10\, LA Roca del Vallès\, bARCELONA\, 08430\, Espanya
CATEGORIES:Cultura
ATTACH;FMTTYPE=image/jpeg:https://larocaturisme.cat/wp-content/uploads/2022/01/mascara-carnestoltes.jpg
ORGANIZER;CN="Ajuntament de La Roca del Vall%C3%A8s":MAILTO:ajuntament@laroca.cat
END:VEVENT
BEGIN:VEVENT
DTSTART;TZID=Europe/Madrid:20220220T090000
DTEND;TZID=Europe/Madrid:20220220T100000
DTSTAMP:20260420T050943
CREATED:20220217T095706Z
LAST-MODIFIED:20220217T103444Z
UID:7903-1645347600-1645351200@larocaturisme.cat
SUMMARY:Sant Antoni Abad 2022
DESCRIPTION:
URL:https://larocaturisme.cat/agenda/sant-antoni-abad-2022/
LOCATION:Plaça Sant Jordi\, Plaça Sant Jordi\, La Roca del Vallès\, 0840\, Espanya
CATEGORIES:Cultura,Festa Major
ATTACH;FMTTYPE=image/jpeg:https://larocaturisme.cat/wp-content/uploads/2022/02/Sant-Antoni-abad.jpg
END:VEVENT
BEGIN:VEVENT
DTSTART;TZID=Europe/Madrid:20220218T190000
DTEND;TZID=Europe/Madrid:20220218T190000
DTSTAMP:20260420T050943
CREATED:20220217T091256Z
LAST-MODIFIED:20220217T103534Z
UID:7859-1645210800-1645210800@larocaturisme.cat
SUMMARY:Mites i realitat en Salut Mental
DESCRIPTION:
URL:https://larocaturisme.cat/agenda/xerrada-mites-i-realitat-en-salut-mental/
LOCATION:Centre Cultural de la Roca del Vallès\, Carrer Lope de Vega\, 10\, La Roca del Vallès\, 08430\, Espanya
CATEGORIES:Reunions,Xerrada
ATTACH;FMTTYPE=image/png:https://larocaturisme.cat/wp-content/uploads/2022/02/mental-health-3350778_1280.png
ORGANIZER;CN="Ajuntament de La Roca del Vall%C3%A8s":MAILTO:ajuntament@laroca.cat
END:VEVENT
BEGIN:VEVENT
DTSTART;TZID=Europe/Madrid:20220123T131500
DTEND;TZID=Europe/Madrid:20220123T131500
DTSTAMP:20260420T050943
CREATED:20220114T123921Z
LAST-MODIFIED:20220114T124024Z
UID:7507-1642943700-1642943700@larocaturisme.cat
SUMMARY:Benedicció d' animals
DESCRIPTION:
URL:https://larocaturisme.cat/agenda/benediccio-d-animals/
LOCATION:Plaça de l’ Esglèsia – Santa Agnès de Malanyanes\, Plaça de l' esglèsia sn\, Santa Agnès de Malanyanes\, Barcelona\, 08430\, Espanya
CATEGORIES:Cultura
ATTACH;FMTTYPE=image/jpeg:https://larocaturisme.cat/wp-content/uploads/2022/01/Bendicion-animales.jpg
END:VEVENT
BEGIN:VEVENT
DTSTART;TZID=Europe/Madrid:20220123T131500
DTEND;TZID=Europe/Madrid:20220123T131500
DTSTAMP:20260420T050943
CREATED:20220114T123921Z
LAST-MODIFIED:20220114T124131Z
UID:7514-1642943700-1642943700@larocaturisme.cat
SUMMARY:Bendición de animales
DESCRIPTION:
URL:https://larocaturisme.cat/agenda/bendicion-de-animales/
LOCATION:Plaça de l’ Esglèsia – Santa Agnès de Malanyanes\, Plaça de l' esglèsia sn\, Santa Agnès de Malanyanes\, Barcelona\, 08430\, Espanya
CATEGORIES:Cultura
ATTACH;FMTTYPE=image/jpeg:https://larocaturisme.cat/wp-content/uploads/2022/01/Bendicion-animales.jpg
END:VEVENT
BEGIN:VEVENT
DTSTART;TZID=Europe/Madrid:20220123T130000
DTEND;TZID=Europe/Madrid:20220123T130000
DTSTAMP:20260420T050943
CREATED:20220114T124741Z
LAST-MODIFIED:20220114T124741Z
UID:7517-1642942800-1642942800@larocaturisme.cat
SUMMARY:Vermut musical per a tots els públics a càrrec del DJ Hochi
DESCRIPTION:
URL:https://larocaturisme.cat/agenda/vermut-musical-per-a-tots-els-publics-a-carrec-del-dj-hochi/
LOCATION:Horta de la Rectòria – Santa Agnès de Malanyanes\, 08430\, Barcelona\, Santa Agnès de Malanyanes\, Barcelona\, 08430\, Espanya
CATEGORIES:Espectacle,Festa Major,Gastronomia
ATTACH;FMTTYPE=image/jpeg:https://larocaturisme.cat/wp-content/uploads/2022/01/vermut.jpg
END:VEVENT
BEGIN:VEVENT
DTSTART;TZID=Europe/Madrid:20220123T130000
DTEND;TZID=Europe/Madrid:20220123T130000
DTSTAMP:20260420T050943
CREATED:20220114T124741Z
LAST-MODIFIED:20220114T124853Z
UID:7524-1642942800-1642942800@larocaturisme.cat
SUMMARY:Vermut musical para todos los públicos a cargo del DJ Hochi
DESCRIPTION:
URL:https://larocaturisme.cat/agenda/vermut-musical-per-a-tots-els-publics-a-carrec-del-dj-hochi/
LOCATION:Horta de la Rectòria – Santa Agnès de Malanyanes\, 08430\, Barcelona\, Santa Agnès de Malanyanes\, Barcelona\, 08430\, Espanya
CATEGORIES:Espectacle,Festa Major,Gastronomia
ATTACH;FMTTYPE=image/jpeg:https://larocaturisme.cat/wp-content/uploads/2022/01/vermut.jpg
END:VEVENT
BEGIN:VEVENT
DTSTART;TZID=Europe/Madrid:20220123T121500
DTEND;TZID=Europe/Madrid:20220123T121500
DTSTAMP:20260420T050943
CREATED:20220114T123503Z
LAST-MODIFIED:20220114T123503Z
UID:7497-1642940100-1642940100@larocaturisme.cat
SUMMARY:Missa Solemne
DESCRIPTION:
URL:https://larocaturisme.cat/agenda/missa-solemne/
LOCATION:Esglèsia de Santa Agnès de Malanyanes\, Carrer Camí d'Alcoll 0\, Santa Agnès de Malanyanes\, Barcelona\, 08430\, Espanya
CATEGORIES:Cultura
ATTACH;FMTTYPE=image/jpeg:https://larocaturisme.cat/wp-content/uploads/2022/01/Esglesia-Sta-Agnes.jpg
END:VEVENT
BEGIN:VEVENT
DTSTART;TZID=Europe/Madrid:20220123T121500
DTEND;TZID=Europe/Madrid:20220123T121500
DTSTAMP:20260420T050943
CREATED:20220114T123503Z
LAST-MODIFIED:20220114T123532Z
UID:7504-1642940100-1642940100@larocaturisme.cat
SUMMARY:Misa Solemne
DESCRIPTION:
URL:https://larocaturisme.cat/agenda/missa-solemne/
LOCATION:Esglèsia de Santa Agnès de Malanyanes\, Carrer Camí d'Alcoll 0\, Santa Agnès de Malanyanes\, Barcelona\, 08430\, Espanya
CATEGORIES:Cultura
ATTACH;FMTTYPE=image/jpeg:https://larocaturisme.cat/wp-content/uploads/2022/01/Esglesia-Sta-Agnes.jpg
END:VEVENT
BEGIN:VEVENT
DTSTART;TZID=Europe/Madrid:20220123T120000
DTEND;TZID=Europe/Madrid:20220123T170000
DTSTAMP:20260420T050943
CREATED:20220114T122935Z
LAST-MODIFIED:20220114T122935Z
UID:7486-1642939200-1642957200@larocaturisme.cat
SUMMARY:Actuació Infantil a càrrec de Jaume Barri
DESCRIPTION:
URL:https://larocaturisme.cat/agenda/actuacio-infantil-a-carrec-de-jaume-barri/
LOCATION:Horta de la Rectòria – Santa Agnès de Malanyanes\, 08430\, Barcelona\, Santa Agnès de Malanyanes\, Barcelona\, 08430\, Espanya
CATEGORIES:Cultura,Espectacle,Festa Major
ATTACH;FMTTYPE=image/jpeg:https://larocaturisme.cat/wp-content/uploads/2022/01/Jaume-Barri.jpg
ORGANIZER;CN="Ajuntament de La Roca del Vall%C3%A8s":MAILTO:ajuntament@laroca.cat
END:VEVENT
BEGIN:VEVENT
DTSTART;TZID=Europe/Madrid:20220123T120000
DTEND;TZID=Europe/Madrid:20220123T170000
DTSTAMP:20260420T050943
CREATED:20220114T122935Z
LAST-MODIFIED:20220114T123201Z
UID:7493-1642939200-1642957200@larocaturisme.cat
SUMMARY:Actuación Infantil a cargo de Jaume Barri
DESCRIPTION:
URL:https://larocaturisme.cat/agenda/actuacio-infantil-a-carrec-de-jaume-barri/
LOCATION:Horta de la Rectòria – Santa Agnès de Malanyanes\, 08430\, Barcelona\, Santa Agnès de Malanyanes\, Barcelona\, 08430\, Espanya
CATEGORIES:Cultura,Espectacle,Festa Major
ATTACH;FMTTYPE=image/jpeg:https://larocaturisme.cat/wp-content/uploads/2022/01/Jaume-Barri.jpg
ORGANIZER;CN="Ajuntament de La Roca del Vall%C3%A8s":MAILTO:ajuntament@laroca.cat
END:VEVENT
BEGIN:VEVENT
DTSTART;TZID=Europe/Madrid:20220123T103000
DTEND;TZID=Europe/Madrid:20220123T170000
DTSTAMP:20260420T050943
CREATED:20220114T121758Z
LAST-MODIFIED:20220114T121844Z
UID:7473-1642933800-1642957200@larocaturisme.cat
SUMMARY:Xerrada "La Mongeta del Ganxet"
DESCRIPTION:
URL:https://larocaturisme.cat/agenda/xerrada-la-mongeta-del-ganxet/
LOCATION:Centre Cívic Santa Agnès de Malanyanes\, 08430 La Roca del Vallès\, Barcelona\, Santa Agnès de Malanyanes\, Barcelona\, 08430\, Espanya
CATEGORIES:Festa Major,Gastronomia
ATTACH;FMTTYPE=image/jpeg:https://larocaturisme.cat/wp-content/uploads/2022/01/Xerrada-mongeta-ganxet.jpeg
END:VEVENT
BEGIN:VEVENT
DTSTART;TZID=Europe/Madrid:20220123T103000
DTEND;TZID=Europe/Madrid:20220123T170000
DTSTAMP:20260420T050943
CREATED:20220114T121758Z
LAST-MODIFIED:20220114T122338Z
UID:7483-1642933800-1642957200@larocaturisme.cat
SUMMARY:Charla "La Mongeta del Ganxet"
DESCRIPTION:
URL:https://larocaturisme.cat/agenda/xerrada-la-mongeta-del-ganxet/
LOCATION:Centre Cívic Santa Agnès de Malanyanes\, 08430 La Roca del Vallès\, Barcelona\, Santa Agnès de Malanyanes\, Barcelona\, 08430\, Espanya
CATEGORIES:Festa Major,Gastronomia
ATTACH;FMTTYPE=image/jpeg:https://larocaturisme.cat/wp-content/uploads/2022/01/Xerrada-mongeta-ganxet.jpeg
END:VEVENT
BEGIN:VEVENT
DTSTART;TZID=Europe/Madrid:20220122T210000
DTEND;TZID=Europe/Madrid:20220122T210000
DTSTAMP:20260420T050943
CREATED:20220114T120201Z
LAST-MODIFIED:20220114T121418Z
UID:7455-1642885200-1642885200@larocaturisme.cat
SUMMARY:Focs d' artifici
DESCRIPTION:
URL:https://larocaturisme.cat/agenda/focs-artificials/
LOCATION:Parc de les Fontanelles
CATEGORIES:Cultura,Espectacle,Festa Major,Fira
ATTACH;FMTTYPE=image/jpeg:https://larocaturisme.cat/wp-content/uploads/2022/01/Focs-artificials.jpg
ORGANIZER;CN="Ajuntament de La Roca del Vall%C3%A8s":MAILTO:ajuntament@laroca.cat
END:VEVENT
BEGIN:VEVENT
DTSTART;TZID=Europe/Madrid:20220122T210000
DTEND;TZID=Europe/Madrid:20220122T210000
DTSTAMP:20260420T050943
CREATED:20220114T120201Z
LAST-MODIFIED:20220114T120526Z
UID:7462-1642885200-1642885200@larocaturisme.cat
SUMMARY:Fuegos Artificiales
DESCRIPTION:
URL:https://larocaturisme.cat/agenda/fuegos-artificiales/
LOCATION:Parc de les Fontanelles
CATEGORIES:Cultura,Espectacle,Festa Major,Fira
ATTACH;FMTTYPE=image/jpeg:https://larocaturisme.cat/wp-content/uploads/2022/01/Focs-artificials.jpg
ORGANIZER;CN="Ajuntament de La Roca del Vall%C3%A8s":MAILTO:ajuntament@laroca.cat
END:VEVENT
BEGIN:VEVENT
DTSTART;TZID=Europe/Madrid:20220122T193000
DTEND;TZID=Europe/Madrid:20220122T193000
DTSTAMP:20260420T050943
CREATED:20220114T115624Z
LAST-MODIFIED:20220118T075803Z
UID:7447-1642879800-1642879800@larocaturisme.cat
SUMMARY:Teatre amb el monòleg " Quin pollastre " a càrrec de Guillem Estadella
DESCRIPTION:* Accès limitat. Reserva d’ entrades a:    https://www.eventbrite.es/e/quin-pollastre-tickets-243525610657
URL:https://larocaturisme.cat/agenda/teatre-amb-el-monoleg-quin-pollastre-a-carrec-de-guillem-estadella/
LOCATION:Centre Cívic Santa Agnès de Malanyanes\, 08430 La Roca del Vallès\, Barcelona\, Santa Agnès de Malanyanes\, Barcelona\, 08430\, Espanya
CATEGORIES:Cultura,Espectacle,Teatre
ATTACH;FMTTYPE=image/jpeg:https://larocaturisme.cat/wp-content/uploads/2022/01/Teatre-Quin-Pollastre.jpg
ORGANIZER;CN="Ajuntament de La Roca del Vall%C3%A8s":MAILTO:ajuntament@laroca.cat
END:VEVENT
BEGIN:VEVENT
DTSTART;TZID=Europe/Madrid:20220122T193000
DTEND;TZID=Europe/Madrid:20220122T193000
DTSTAMP:20260420T050943
CREATED:20220114T115624Z
LAST-MODIFIED:20220118T075848Z
UID:7454-1642879800-1642879800@larocaturisme.cat
SUMMARY:Teatro con el monologo " Quin pollastre " a cargo de Guillem Estadella
DESCRIPTION:* Acceso limitado. Reserva de entradas:    https://www.eventbrite.es/e/quin-pollastre-tickets-243525610657
URL:https://larocaturisme.cat/agenda/teatre-amb-el-monoleg-quin-pollastre-a-carrec-de-guillem-estadella/
LOCATION:Centre Cívic Santa Agnès de Malanyanes\, 08430 La Roca del Vallès\, Barcelona\, Santa Agnès de Malanyanes\, Barcelona\, 08430\, Espanya
CATEGORIES:Cultura,Espectacle,Teatre
ATTACH;FMTTYPE=image/jpeg:https://larocaturisme.cat/wp-content/uploads/2022/01/Teatre-Quin-Pollastre.jpg
ORGANIZER;CN="Ajuntament de La Roca del Vall%C3%A8s":MAILTO:ajuntament@laroca.cat
END:VEVENT
BEGIN:VEVENT
DTSTART;TZID=Europe/Madrid:20220122T170000
DTEND;TZID=Europe/Madrid:20220123T130000
DTSTAMP:20260420T050943
CREATED:20220114T083749Z
LAST-MODIFIED:20220114T114537Z
UID:7398-1642870800-1642942800@larocaturisme.cat
SUMMARY:Festa Major d' hivern Santa Agnès de Malanyanes
DESCRIPTION:
URL:https://larocaturisme.cat/agenda/festa-major-d-hivern-santa-agnes-de-malanyanes/
LOCATION:Santa Agnès de Malanyanes
CATEGORIES:Cultura,Espectacle,Gastronomia,Teatre,Xerrada
ATTACH;FMTTYPE=image/jpeg:https://larocaturisme.cat/wp-content/uploads/2022/01/Festa-hivern-Sta-Agnes-22-1.jpg
ORGANIZER;CN="Ajuntament de La Roca del Vall%C3%A8s":MAILTO:ajuntament@laroca.cat
END:VEVENT
BEGIN:VEVENT
DTSTART;TZID=Europe/Madrid:20220122T170000
DTEND;TZID=Europe/Madrid:20220123T130000
DTSTAMP:20260420T050943
CREATED:20220114T083510Z
LAST-MODIFIED:20220114T121326Z
UID:7377-1642870800-1642942800@larocaturisme.cat
SUMMARY:Fiesta Mayor de hiverno Santa Agnès de Malanyanes
DESCRIPTION:
URL:https://larocaturisme.cat/agenda/fiesta-mayor-de-hiverno-santa-agnes-de-malanyanes/
LOCATION:Santa Agnès de Malanyanes
CATEGORIES:Cultura,Espectacle,Gastronomia,Teatre,Xerrada
ATTACH;FMTTYPE=image/jpeg:https://larocaturisme.cat/wp-content/uploads/2022/01/Festa-hivern-Sta-Agnes-22-1.jpg
ORGANIZER;CN="Ajuntament de La Roca del Vall%C3%A8s":MAILTO:ajuntament@laroca.cat
END:VEVENT
BEGIN:VEVENT
DTSTART;TZID=Europe/Madrid:20220122T170000
DTEND;TZID=Europe/Madrid:20220122T170000
DTSTAMP:20260420T050943
CREATED:20220114T113659Z
LAST-MODIFIED:20220114T114143Z
UID:7424-1642870800-1642870800@larocaturisme.cat
SUMMARY:Inauguració Exposició Fotogràfica del Concurs Fotogràfic a Instagram Festes Majors estiu 2021
DESCRIPTION:
URL:https://larocaturisme.cat/agenda/exposicio-concurs-fotografic/
LOCATION:Centre Cívic Santa Agnès de Malanyanes\, 08430 La Roca del Vallès\, Barcelona\, Santa Agnès de Malanyanes\, Barcelona\, 08430\, Espanya
CATEGORIES:Cultura
ATTACH;FMTTYPE=image/jpeg:https://larocaturisme.cat/wp-content/uploads/2022/01/Camara-fotografica.jpg
END:VEVENT
BEGIN:VEVENT
DTSTART;TZID=Europe/Madrid:20220122T170000
DTEND;TZID=Europe/Madrid:20220122T170000
DTSTAMP:20260420T050943
CREATED:20220114T113659Z
LAST-MODIFIED:20220114T113659Z
UID:7434-1642870800-1642870800@larocaturisme.cat
SUMMARY:Inauguració Exposició Fotogràfica del Concurs Fotogràfic a Instagram Gestes Majors estiu 2021
DESCRIPTION:
URL:https://larocaturisme.cat/agenda/exposicio-concurs-fotografic/
LOCATION:Centre Cívic Santa Agnès de Malanyanes\, 08430 La Roca del Vallès\, Barcelona\, Santa Agnès de Malanyanes\, Barcelona\, 08430\, Espanya
CATEGORIES:Cultura
ATTACH;FMTTYPE=image/jpeg:https://larocaturisme.cat/wp-content/uploads/2022/01/Camara-fotografica.jpg
END:VEVENT
BEGIN:VEVENT
DTSTART;TZID=Europe/Madrid:20211212T090000
DTEND;TZID=Europe/Madrid:20211212T140000
DTSTAMP:20260420T050943
CREATED:20211104T075214Z
LAST-MODIFIED:20211104T075214Z
UID:7244-1639299600-1639317600@larocaturisme.cat
SUMMARY:XVII Marxa per la marató TV3
DESCRIPTION:Sortirem de la plaça de l´Ajuntament\, el recorregut està marcat amb cinta blanca i vermella. \nTrenquem per la rambla en direcció a l´església\, passem per la riera i trenquem a mà dreta cap al llac dels ànecs. \nPassem per sota el pont i trenquem a mà dreta\, seguim riera amunt i a la cruïlla trenquem a mà esquerra en direcció a la les víes de l´Ave\, passem per sota la via de l´autopista i sortim i trobem tres camins\, nosaltres agafarem el del mitg en direcció a Ca l´Oriach. \nAl arribar-hi trencarem a mà esquerra a la pujada i amunt ……… fins arribar a dalt de tot que trencarem a mà esquerra i anirem seguint les senyals fins La Roca tot baixant  al pati de l’escola \nA les cruïlles importants trobareu les senyals\, si trobeu a faltar alguna senyal\, truqueu-nos al 615\,54\,66\,59
URL:https://larocaturisme.cat/agenda/xvii-marxa-per-la-marato-tv3/
LOCATION:Ajuntament de La Roca del Vallès\, Carrer de Catalunya\, 18-24\, La Roca del Vallès\, Barcelona\, 08430\, España
CATEGORIES:Esport
ORGANIZER;CN="Elskekorrenmolt":MAILTO:elskekorrenmolt@yahoo.es
END:VEVENT
BEGIN:VEVENT
DTSTART;TZID=Europe/Madrid:20211212T090000
DTEND;TZID=Europe/Madrid:20211212T140000
DTSTAMP:20260420T050943
CREATED:20211104T075214Z
LAST-MODIFIED:20211104T075214Z
UID:7245-1639299600-1639317600@larocaturisme.cat
SUMMARY:XVII Marxa per la marató TV3
DESCRIPTION:Sortirem de la plaça de l´Ajuntament\, el recorregut està marcat amb cinta blanca i vermella. \nTrenquem per la rambla en direcció a l´església\, passem per la riera i trenquem a mà dreta cap al llac dels ànecs. \nPassem per sota el pont i trenquem a mà dreta\, seguim riera amunt i a la cruïlla trenquem a mà esquerra en direcció a la les víes de l´Ave\, passem per sota la via de l´autopista i sortim i trobem tres camins\, nosaltres agafarem el del mitg en direcció a Ca l´Oriach. \nAl arribar-hi trencarem a mà esquerra a la pujada i amunt ……… fins arribar a dalt de tot que trencarem a mà esquerra i anirem seguint les senyals fins La Roca tot baixant  al pati de l’escola \nA les cruïlles importants trobareu les senyals\, si trobeu a faltar alguna senyal\, truqueu-nos al 615\,54\,66\,59
URL:https://larocaturisme.cat/agenda/xvii-marxa-per-la-marato-tv3/
LOCATION:Ajuntament de La Roca del Vallès\, Carrer de Catalunya\, 18-24\, La Roca del Vallès\, Barcelona\, 08430\, España
CATEGORIES:Esport
ORGANIZER;CN="Elskekorrenmolt":MAILTO:elskekorrenmolt@yahoo.es
END:VEVENT
END:VCALENDAR