BEGIN:VCALENDAR
VERSION:2.0
PRODID:-//La Roca Turisme - ECPv6.15.20//NONSGML v1.0//EN
CALSCALE:GREGORIAN
METHOD:PUBLISH
X-ORIGINAL-URL:https://larocaturisme.cat
X-WR-CALDESC:Events for La Roca Turisme
REFRESH-INTERVAL;VALUE=DURATION:PT1H
X-Robots-Tag:noindex
X-PUBLISHED-TTL:PT1H
BEGIN:VTIMEZONE
TZID:Europe/Madrid
BEGIN:DAYLIGHT
TZOFFSETFROM:+0100
TZOFFSETTO:+0200
TZNAME:CEST
DTSTART:20210328T010000
END:DAYLIGHT
BEGIN:STANDARD
TZOFFSETFROM:+0200
TZOFFSETTO:+0100
TZNAME:CET
DTSTART:20211031T010000
END:STANDARD
BEGIN:DAYLIGHT
TZOFFSETFROM:+0100
TZOFFSETTO:+0200
TZNAME:CEST
DTSTART:20220327T010000
END:DAYLIGHT
BEGIN:STANDARD
TZOFFSETFROM:+0200
TZOFFSETTO:+0100
TZNAME:CET
DTSTART:20221030T010000
END:STANDARD
BEGIN:DAYLIGHT
TZOFFSETFROM:+0100
TZOFFSETTO:+0200
TZNAME:CEST
DTSTART:20230326T010000
END:DAYLIGHT
BEGIN:STANDARD
TZOFFSETFROM:+0200
TZOFFSETTO:+0100
TZNAME:CET
DTSTART:20231029T010000
END:STANDARD
END:VTIMEZONE
BEGIN:VEVENT
DTSTART;TZID=Europe/Madrid:20221016T130000
DTEND;TZID=Europe/Madrid:20221016T170000
DTSTAMP:20260419T213239
CREATED:20221013T102348Z
LAST-MODIFIED:20221013T102348Z
UID:8815-1665925200-1665939600@larocaturisme.cat
SUMMARY:Microexperiència gastronòmica El Pintxo - Dover La Roca
DESCRIPTION:
URL:https://larocaturisme.cat/agenda/microexperiencia-gastronomica-el-pintxo-dover-la-roca/
LOCATION:Barcelona
CATEGORIES:Gastronomia
ATTACH;FMTTYPE=image/png:https://larocaturisme.cat/wp-content/uploads/2022/10/microexperiencia-Dover.png
END:VEVENT
END:VCALENDAR